BEGIN:VCALENDAR
VERSION:2.0
PRODID:-//eventon.com NONSGML v1.0//EN
BEGIN:VEVENT
UID:69e737a75ccbf
DTSTAMP:20260421T083903
DTSTART:20220507
DTEND:20220508
TZID:America/New_York
LOCATION:Rocky Top Sports World 1870 Sports World Blvd Gatlinburg\,  TN 37738
SUMMARY:NYBL Challenge **CANCELED**
DESCRIPTION: CANCELED For more information\,  please contact Glen Mayo at 850-703-9677 or by email at nextupglen@gmail.com.\nhttps://rockytopsportsworld.com/events/nyblchallenge/
URL:https://rockytopsportsworld.com/events/nyblchallenge/
END:VEVENT
END:VCALENDAR