BEGIN:VCALENDAR
VERSION:2.0
PRODID:-//eventon.com NONSGML v1.0//EN
BEGIN:VEVENT
UID:69ed8377cbe38
DTSTAMP:20260426T031607
DTSTART:20220729
DTEND:20220731
TZID:America/New_York
LOCATION:Rocky Top Sports World 1870 Sports World Blvd Gatlinburg\,  TN 37738
SUMMARY:CubingUSA Southeastern Championships
DESCRIPTION: Hosted by: CubingUSA Dates: July 29-31\,  2022 Registration Deadline: Sunday\,  July 10\,  2022\,  at 8:00 PM EST. Event Times:  Friday | 8am &#8211; 6:30pm Saturday | 8am &#8211; 6:30pm Sunday | 8am &#8211; 6pm *Check-in at 7:00 AM each day Event Types: Cube: 2x2x2\,  3x3x3\,  4x4x4\,  5x5x5\,  6x6x6\,  7x7x7 3x3x3: Blindfolded\, [..]\nhttps://rockytopsportsworld.com/events/cubing-usa-southeastern-nationals-2022/
URL:https://rockytopsportsworld.com/events/cubing-usa-southeastern-nationals-2022/
END:VEVENT
END:VCALENDAR