BEGIN:VCALENDAR
VERSION:2.0
PRODID:-//eventon.com NONSGML v1.0//EN
BEGIN:VEVENT
UID:69e50b68485cd
DTSTAMP:20260419T170544
DTSTART:20250502T000000Z
DTEND:20250504T235900Z
TZID:America/New_York
LOCATION:Rocky Top Sports World 1870 Sports World Blvd Gatlinburg\,  TN 37738
SUMMARY:Rocky Top Invitational
DESCRIPTION: Rocky Top Invitational Presented by: On The Radar Hoops Dates: May 2-4\,  2025 The Rocky Top Invitational is one of the premier events nationwide. Held at Rocky Top Sports World in Gatlinburg\,  TN. Don’t let your team miss out on a great way to gain exposure and earn scholarships. REGISTER[..]\nhttps://rockytopsportsworld.com/events/rocky-top-invitational-2/
URL:https://rockytopsportsworld.com/events/rocky-top-invitational-2/
END:VEVENT
END:VCALENDAR