BEGIN:VCALENDAR
VERSION:2.0
PRODID:-//eventon.com NONSGML v1.0//EN
BEGIN:VEVENT
UID:69e8917839a32
DTSTAMP:20260422T091432
DTSTART:20260307
DTEND:20260308
TZID:America/New_York
LOCATION:Rocky Top Sports World 1870 Sports World Blvd Gatlinburg\,  TN 37738
SUMMARY:NSE Gatlinburg Spring Classic 2026
DESCRIPTION: This 2-day tournament is open to Select teams and will offer multiple divisions\,  awards for 1st and 2nd place\,  quality officiating\,  good competition\,  3-game minimum\,  online scoring\,  and a great experience! Dates: March 7-8\,  2026 Age Divisions: U9 &#8211; U19 | Boys & Girls &nbsp; TOURNAMENT WEBSITE Questions? Contact Jon[..]\nhttps://rockytopsportsworld.com/events/nse-gatlinburg-spring-classic-2026/
URL:https://rockytopsportsworld.com/events/nse-gatlinburg-spring-classic-2026/
END:VEVENT
END:VCALENDAR