BEGIN:VCALENDAR
VERSION:2.0
PRODID:-//eventon.com NONSGML v1.0//EN
BEGIN:VEVENT
UID:69ea3ca261266
DTSTAMP:20260423T153706
DTSTART:20260312
DTEND:20260315
TZID:America/New_York
LOCATION:Rocky Top Sports World 1870 Sports World Blvd Gatlinburg\,  TN 37738
SUMMARY:Smoky Mountain Cup - Spring 2026: Boys - Round 1
DESCRIPTION: Presented by: High School Cup The Smoky Mountain Cup Presented by BSN Sports is the Spring and Fall Southeast Regional of The High School Cup &#8211; a series of regional tournaments. Dates: March 26-29\,  2026 &nbsp; High School Cup website Questions? Contact Van Harper at 865-705-3105 or email van@highschoolcup.com. &nbsp; BOOK[..]\nhttps://rockytopsportsworld.com/events/smoky-mountain-cup-spring-2026-boys-round-1/
URL:https://rockytopsportsworld.com/events/smoky-mountain-cup-spring-2026-boys-round-1/
END:VEVENT
END:VCALENDAR