BEGIN:VCALENDAR
VERSION:2.0
PRODID:-//eventon.com NONSGML v1.0//EN
BEGIN:VEVENT
UID:69e891b101fb2
DTSTAMP:20260422T091529
DTSTART:20260330T000000Z
DTEND:20260402T235900Z
TZID:America/New_York
LOCATION:Rocky Top Sports World 1870 Sports World Blvd Gatlinburg\,  TN 37738
SUMMARY:Small Ball Nationals
DESCRIPTION: Small Ball Nationals Presented by: Small Ball United Dates: March 30 &#8211; April 2\,  2026 &nbsp; Youth basketball tournament. &nbsp; TOURNAMENT WEBSITE &nbsp; Questions? Contact Brandon Mixter: Mixter@smallballunited.com\nhttps://rockytopsportsworld.com/events/small-ball-nationals/
URL:https://rockytopsportsworld.com/events/small-ball-nationals/
END:VEVENT
END:VCALENDAR