BEGIN:VCALENDAR
VERSION:2.0
PRODID:-//eventon.com NONSGML v1.0//EN
BEGIN:VEVENT
UID:69e8bcca358cf
DTSTAMP:20260422T121922
DTSTART:20260529
DTEND:20260531
TZID:America/New_York
LOCATION:Rocky Top Sports World 1870 Sports World Blvd Gatlinburg\,  TN 37738
SUMMARY:MSYS Southeastern Regional #1
DESCRIPTION: 9th Annual Southeastern Regional #1 Presented by: Mid State Youth Sports Dates: May 29-31\,  2026 Divisions: Most grades/ages will be classified into both A & B divisions Gender: Boys Divisions 1st-12th grade (6u-18u) \,  Girls Divisions 3rd-12th grade (7u-18u) Cost: $260 / team Multiple Team Discount: Register 3 or more teams & pay at one[..]\nhttps://rockytopsportsworld.com/events/msys-southeastern-regional-1/
URL:https://rockytopsportsworld.com/events/msys-southeastern-regional-1/
END:VEVENT
END:VCALENDAR