BEGIN:VCALENDAR
VERSION:2.0
PRODID:-//eventon.com NONSGML v1.0//EN
BEGIN:VEVENT
UID:69eb43f6b58e5
DTSTAMP:20260424T102038
DTSTART:20260605
DTEND:20260607
TZID:America/New_York
LOCATION:Rocky Top Sports World 1870 Sports World Blvd Gatlinburg\,  TN 37738
SUMMARY:MSYS Southeastern Regional # 2
DESCRIPTION: 9th Annual Southeastern Regional # 2 Presented by: Mid State Youth Sports Dates: June 5-7\,  2026 Divisions: Most grades/ages will be classified into both A & B divisions Gender: Boys Divisions 1st-12th grade (6u-18u) \,  Girls Divisions 3rd-12th grade (7u-18u) Cost: $260 / team Multiple Team Discount: Register 3 or more teams & pay[..]\nhttps://rockytopsportsworld.com/events/msys-southeastern-regional-2/
URL:https://rockytopsportsworld.com/events/msys-southeastern-regional-2/
END:VEVENT
END:VCALENDAR