BEGIN:VCALENDAR
VERSION:2.0
PRODID:-//eventon.com NONSGML v1.0//EN
BEGIN:VEVENT
UID:69e8fc8321221
DTSTAMP:20260422T165115
DTSTART:20261112
DTEND:20261112
TZID:America/New_York
LOCATION:Rocky Top Sports World 1870 Sports World Blvd Gatlinburg\,  TN 37738
SUMMARY:10th Annual Rumble at the Rock 2026 - Day 2
DESCRIPTION: Rumble At The Rock Presented by: Rocky Top Sports World Rumble at the Rock is the premier preseason scrimmage event for high school boys and girls basketball teams! Start your season off the right way with two scrimmages against unique opponents in beautiful Gatlinburg\,  TN at the Rocky Top Sports[..]\nhttps://rockytopsportsworld.com/events/10th-annual-rumble-at-the-rock-2026-day-2/
URL:https://rockytopsportsworld.com/events/10th-annual-rumble-at-the-rock-2026-day-2/
END:VEVENT
END:VCALENDAR