BEGIN:VCALENDAR
VERSION:2.0
PRODID:-//eventon.com NONSGML v1.0//EN
BEGIN:VEVENT
UID:69e8918d3420a
DTSTAMP:20260422T091453
DTSTART:20260718
DTEND:20260719
TZID:America/New_York
LOCATION:Rocky Top Sports World 1870 Sports World Blvd Gatlinburg\,  TN 37738
SUMMARY:Kohl's National Invitational Scholarship Camp 2026
DESCRIPTION: Kohl&#8217;s National Invitational Scholarship Camp Presented by: Kohl&#8217;s Professional Camps  America&#8217;s premiere event for kickers\,  punters\,  and snappers. Ten All-Americans will be selected from this camp. This camp is the #1 evaluator for us to do the Kohl&#8217;s and ESPN National rankings. It is a special experience that has helped[..]\nhttps://rockytopsportsworld.com/events/kohls-national-invitational-scholarship-camp-2026/
URL:https://rockytopsportsworld.com/events/kohls-national-invitational-scholarship-camp-2026/
END:VEVENT
END:VCALENDAR